BEGIN:VCALENDAR
VERSION:2.0
PRODID:-//playtimeproject.org//NONSGML kigkonsult.se iCalcreator 2.30.10//
CALSCALE:GREGORIAN
METHOD:PUBLISH
UID:340ea349-dca7-41ee-adef-c35be08830c0
X-WR-CALDESC:
X-WR-RELCALID:4bb14a568c00d00757a676e86104dcb7
X-WR-TIMEZONE:America/New_York
BEGIN:VTIMEZONE
TZID:America/New_York
BEGIN:STANDARD
TZNAME:EST
DTSTART:20251102T020000
TZOFFSETFROM:-0400
TZOFFSETTO:-0500
RDATE:20261101T020000
END:STANDARD
BEGIN:DAYLIGHT
TZNAME:EDT
DTSTART:20260308T020000
TZOFFSETFROM:-0500
TZOFFSETTO:-0400
RDATE:20270314T020000
END:DAYLIGHT
END:VTIMEZONE
BEGIN:VEVENT
UID:57a2b5eb-6680-4df3-b0ef-2a5b39d71cd9
DTSTAMP:20260422T020336Z
DESCRIPTION:
DTSTART;TZID=America/New_York:20260422T190000
DTEND;TZID=America/New_York:20260422T200000
LOCATION:A Teams link will be sent to all registrants the day before the ev
 ent.
SUMMARY:Play Ambassador Info Session at 7pm (Virtual)
END:VEVENT
END:VCALENDAR
