BEGIN:VCALENDAR
VERSION:2.0
PRODID:-//playtimeproject.org//NONSGML kigkonsult.se iCalcreator 2.30.10//
CALSCALE:GREGORIAN
METHOD:PUBLISH
UID:0d07d1a4-7b2a-4d12-b38b-3ef3881e4e5a
X-WR-CALDESC:
X-WR-RELCALID:2a17b912ac6b8f635cb2a53ff0796a74
X-WR-TIMEZONE:America/New_York
BEGIN:VTIMEZONE
TZID:America/New_York
BEGIN:STANDARD
TZNAME:EST
DTSTART:20251102T020000
TZOFFSETFROM:-0400
TZOFFSETTO:-0500
RDATE:20261101T020000
END:STANDARD
BEGIN:DAYLIGHT
TZNAME:EDT
DTSTART:20260308T020000
TZOFFSETFROM:-0500
TZOFFSETTO:-0400
RDATE:20270314T020000
END:DAYLIGHT
END:VTIMEZONE
BEGIN:VEVENT
UID:f3a17e02-d4aa-4f58-bb98-119b57922fc3
DTSTAMP:20260422T001451Z
DESCRIPTION:
DTSTART;TZID=America/New_York:20260422T120000
DTEND;TZID=America/New_York:20260422T130000
LOCATION:A Teams link will be sent to all registrants the day before the ev
 ent.
SUMMARY:Play Ambassador Info Session at Noon (Virtual)
END:VEVENT
END:VCALENDAR
