BEGIN:VCALENDAR
VERSION:2.0
PRODID:-//playtimeproject.org//NONSGML kigkonsult.se iCalcreator 2.30.10//
CALSCALE:GREGORIAN
METHOD:PUBLISH
UID:35352933-a5a6-406b-8379-d061a42aecd8
X-WR-CALDESC:You will receive a Teams link to the email address provided du
 ring registration. If it does not arrive\, please reach out to volunteer@p
 laytimeproject.org at least 30 minutes prior to the training.
X-WR-RELCALID:b02a7e1f016a80d7726a4223d419780a
X-WR-TIMEZONE:America/New_York
BEGIN:VTIMEZONE
TZID:America/New_York
BEGIN:STANDARD
TZNAME:EST
DTSTART:20251102T020000
TZOFFSETFROM:-0400
TZOFFSETTO:-0500
RDATE:20261101T020000
RDATE:20271107T020000
END:STANDARD
BEGIN:DAYLIGHT
TZNAME:EDT
DTSTART:20260308T020000
TZOFFSETFROM:-0500
TZOFFSETTO:-0400
RDATE:20270314T020000
END:DAYLIGHT
END:VTIMEZONE
BEGIN:VEVENT
UID:3576bc98-1167-429b-869d-3ee0352928c9
DTSTAMP:20260424T084431Z
DESCRIPTION:You will receive a Teams link to the email address provided dur
 ing registration. If it does not arrive\, please reach out to volunteer@pl
 aytimeproject.org at least 30 minutes prior to the training.
DTSTART;TZID=America/New_York:20260528T140000
DTEND;TZID=America/New_York:20260528T160000
LOCATION:Link will be sent the morning of training.
SUMMARY:Volunteer Orientation & Play Ranger Training (virtual)
END:VEVENT
END:VCALENDAR
